BEGIN:VCALENDAR
VERSION:2.0
PRODID:-//Lake Diane Community Association - ECPv6.15.17.1//NONSGML v1.0//EN
CALSCALE:GREGORIAN
METHOD:PUBLISH
X-ORIGINAL-URL:https://www.lakediane.org
X-WR-CALDESC:Events for Lake Diane Community Association
REFRESH-INTERVAL;VALUE=DURATION:PT1H
X-Robots-Tag:noindex
X-PUBLISHED-TTL:PT1H
BEGIN:VTIMEZONE
TZID:UTC
BEGIN:STANDARD
TZOFFSETFROM:+0000
TZOFFSETTO:+0000
TZNAME:UTC
DTSTART:20230101T000000
END:STANDARD
END:VTIMEZONE
BEGIN:VTIMEZONE
TZID:Asia/Dubai
BEGIN:STANDARD
TZOFFSETFROM:+0400
TZOFFSETTO:+0400
TZNAME:+04
DTSTART:20240101T000000
END:STANDARD
END:VTIMEZONE
BEGIN:VEVENT
DTSTART;TZID=UTC:20250809T130000
DTEND;TZID=UTC:20250809T180000
DTSTAMP:20260421T140322
CREATED:20220728T181531Z
LAST-MODIFIED:20250603T150925Z
UID:1682-1754744400-1754762400@www.lakediane.org
SUMMARY:Family Picnic
DESCRIPTION:The Hot Dog and Corn Roast will be at the shelter house on East Diane.  As in the past\, please bring a dish to pass and a Volley Ball or Corn Hole team for an afternoon of fun and games.  There will be separate games for our children to play!  This is a really great day to get to know your neighbors and some new friends.  Corn and Hot Dogs served from 1pm on. \n 
URL:https://www.lakediane.org/event/hot-dog-corn-roast/
LOCATION:LDCA Shelter House\, 14388 E Diane Dr\, Camden\, MI\, 49232\, United States
CATEGORIES:LDCA Event
END:VEVENT
BEGIN:VEVENT
DTSTART;TZID=Asia/Dubai:20250621T083000
DTEND;TZID=Asia/Dubai:20250621T163000
DTSTAMP:20260421T140322
CREATED:20250606T145522Z
LAST-MODIFIED:20250606T145522Z
UID:2675-1750494600-1750523400@www.lakediane.org
SUMMARY:Boaters Safety Class : June 21\, 2025
DESCRIPTION:Location:\n1810 W Territorial Rd\, Camden\, MI 49232\n\nSCHEDULE\n\nDate & Times:\nJun 21\, 2025 8:50AM – 4:30PM EST\n\nAbout this Event:\n\n\nThe Boater Safety Class is for all ages and FREE OF CHARGE (courtesy of the Hillsdale County Sheriff Department). Pre-registration is required\, and lunch will be provided courtesy of the Lake Diane Association. Arrive no later than 8:50 a.m.\, with the class beginning at 9:00 a.m. and running until around 4:30 p.m. The class will allow students to earn their boater certification in one day. Those born after June 30\, 1996\, must possess a Boater Safety Certificate to operate any motorized watercraft in Michigan. \nThe class is designed for those 12 years of age or older.
URL:https://www.lakediane.org/event/boaters-safety-class-june-21-2025/
LOCATION:S. Hillsdale Comm Center\, 1810 West Territorial Road\, Amboy Township\, MI\, 49232\, United States
CATEGORIES:LDCA Event
END:VEVENT
BEGIN:VEVENT
DTSTART;TZID=UTC:20250614T080000
DTEND;TZID=UTC:20250614T170000
DTSTAMP:20260421T140322
CREATED:20220104T150022Z
LAST-MODIFIED:20250603T134203Z
UID:1661-1749888000-1749920400@www.lakediane.org
SUMMARY:Lake Wide Garage Sales
DESCRIPTION:Please join us!
URL:https://www.lakediane.org/event/lakeside-garage-sales/
LOCATION:Lake Wide
CATEGORIES:LDCA Event
END:VEVENT
BEGIN:VEVENT
DTSTART;TZID=UTC:20240601T083000
DTEND;TZID=UTC:20240601T160000
DTSTAMP:20260421T140322
CREATED:20230407T010014Z
LAST-MODIFIED:20240519T125250Z
UID:1864-1717230600-1717257600@www.lakediane.org
SUMMARY:Hillsdale County Boaters Safety Course and Certification Exam
DESCRIPTION:On Saturday\, June 1st\, 2024 the Lake Diane Community Association in partnership with the Hillsdale County Sheriff Office will offer a Boaters Safety and certification course.  The course is offered to anyone in the community. \nLunch being provided by LDCA. \nUPDATE this year:  Michigan DNR is asking for pre-registration at DNR registration \nPlease mark your calendar for June 01\, 2024 with doors open at 8:30 am at the Lake View UB church located off East Territorial Road west of M-99. \nAny motorized boat operator born after June 30\, 1996\, is required by law to pass an approved boater safety course and to carry a boater safety certificate. \n  \nFor more information\, see our Boater Safety section of the website and the DNR registration site for statewide safety classes.
URL:https://www.lakediane.org/event/hillsdale-county-boaters-safety-course-and-certification/
LOCATION:MI
CATEGORIES:LDCA Event
ATTACH;FMTTYPE=image/jpeg:https://www.lakediane.org/wp-content/uploads/2016/07/lakediane3.jpg
END:VEVENT
END:VCALENDAR