BEGIN:VCALENDAR
VERSION:2.0
PRODID:-//Lake Diane Community Association - ECPv6.15.17.1//NONSGML v1.0//EN
CALSCALE:GREGORIAN
METHOD:PUBLISH
X-ORIGINAL-URL:https://www.lakediane.org
X-WR-CALDESC:Events for Lake Diane Community Association
REFRESH-INTERVAL;VALUE=DURATION:PT1H
X-Robots-Tag:noindex
X-PUBLISHED-TTL:PT1H
BEGIN:VTIMEZONE
TZID:UTC
BEGIN:STANDARD
TZOFFSETFROM:+0000
TZOFFSETTO:+0000
TZNAME:UTC
DTSTART:20240101T000000
END:STANDARD
END:VTIMEZONE
BEGIN:VEVENT
DTSTART;TZID=UTC:20250830T190000
DTEND;TZID=UTC:20250830T220000
DTSTAMP:20260423T131238
CREATED:20220728T181734Z
LAST-MODIFIED:20250603T154223Z
UID:1684-1756580400-1756591200@www.lakediane.org
SUMMARY:Lake Diane Wine Crawl
DESCRIPTION:DATE\nSATURDAY\, AUGUST. 30th\, 2025 @ 7PM\n\n\nADMISSION\n$20 (CASH or VENMO only)\n\n\nTICKETS/CUP\n  \n(TBD)\n\n\nSPONSORSHIP\ncommunity not affiliated with any other group or LDCA\n\n\nID\nMust be 21 with valid ID\n\n\n\n\n\n \n\nINCLUDES: YOUR WINE GLASS (PLASTIC\, BY POPULAR DEMAND THIS YEAR) AND SOME OF THE BEST (USED LOOSELY) TASTING WINES LOCALLY (AND NOT SO LOCALLY).\n\nBRING YOUR FINEST TASTE BUDS\, LOWER YOUR EXPECTATION\, ROUND UP YOUR FRIENDS\, A VALID I.D.\, SOME EXTRA CASH FOR 50/50 AND BE READY TO ENJOY THE CONTINUED TRADITION!\n\n\nREMEMBER\, BE SAFE. ALL PROCEEDS GO BACK TO THE LAKE DIANE COMMUNITY \n\nTICKETS/YOUR PLASTIC WINE CUP WILL BE AVAILABLE FRIDAY EVENING @  TBD\n\n\n\n\n  \n \n\n\n\n\n\n\nADDITIONALLY\, PLEASE SHARE THIS INVITE. WE ARE SO HAPPY WE WERE ABLE TO HELP KEEP THIS AMAZING TRADITION ALIVE\n\n(This event is a community event that is not affiliated with any association)
URL:https://www.lakediane.org/event/wine-crawl-2022/
CATEGORIES:Fundraiser,non LDCA Event
END:VEVENT
BEGIN:VEVENT
DTSTART;TZID=UTC:20250706T130000
DTEND;TZID=UTC:20250706T160000
DTSTAMP:20260423T131238
CREATED:20200628T154231Z
LAST-MODIFIED:20250603T134423Z
UID:1544-1751806800-1751817600@www.lakediane.org
SUMMARY:Watercraft Poker Run
DESCRIPTION:Sponsored by the Friends of Lake Diane. To support the C/F Scholarship Fund and other Friends Projects.  Sunday\, July 6th from 1pm to 3pm. Register at The Friends Pavilion on Territorial Rd from 11am to 1pm. Entry fee is $15 per adult player. Visit each of 6 stations to get a ticket\, return to Pavilion and trade your tickets for cards. \nCard draw and payout @ Pavilion at 3:30pm
URL:https://www.lakediane.org/event/watercraft-poker-run/
LOCATION:S. Hillsdale Comm Center\, 1810 West Territorial Road\, Amboy Township\, MI\, 49232\, United States
CATEGORIES:Fundraiser,non LDCA Event
END:VEVENT
END:VCALENDAR